BEGIN:VCALENDAR
VERSION:2.0
PRODID:icalendar-ruby
CALSCALE:GREGORIAN
METHOD:PUBLISH
BEGIN:VEVENT
DTSTAMP:20260425T022723Z
UID:10-970896@spiritofchristclawson.org
DTSTART:20261019T230000Z
DTEND:20261020T000000Z
CLASS:PUBLIC
CREATED:20260424T220715
DESCRIPTION: If you’ve ever thought of learning a new instrument – or 
 your first instrument – NOW is your opportunity to gather with old frien
 ds\, make new friends\, sing fun songs\, and accompany yourselves with uku
 leles! Monday evenings from 7:00-8:30 in the conference room within the We
 lcome Center\, facilitated by Jack Erickson.
LAST-MODIFIED:20260424T220715
LOCATION:Spirit of Christ Lutheran Church
SUMMARY:Ukulele Club
URL;VALUE=URI:https://www.spiritofchristclawson.org/events/ukulele-club/202
 6-10-19
ATTACH;FILENAME=Ukelele-Club-Spirit-of-Christ-Clawson-Michigan.png;FMTTYPE=
 image/png:https://dq5pwpg1q8ru0.cloudfront.net/2023/11/09/20/35/46/e25d3e3
 d-f265-43e8-a4f8-9351f808d636/Ukelele-Club-Spirit-of-Christ-Clawson-Michig
 an.png
END:VEVENT
END:VCALENDAR
